Package: EnrichmentBrowser Version: 2.34.1 Command: chmod a+r EnrichmentBrowser -R && F:\biocbuild\bbs-3.19-bioc\R\bin\R.exe CMD build --keep-empty-dirs --no-resave-data EnrichmentBrowser StartedAt: 2024-06-26 18:35:44 -0400 (Wed, 26 Jun 2024) EndedAt: 2024-06-26 18:37:59 -0400 (Wed, 26 Jun 2024) EllapsedTime: 135.0 seconds RetCode: 0 Status: OK PackageFile: EnrichmentBrowser_2.34.1.tar.gz PackageFileSize: 1.264 MiB