Package: EnrichmentBrowser Version: 2.34.1 Command: rm -rf EnrichmentBrowser.buildbin-libdir && mkdir EnrichmentBrowser.buildbin-libdir && F:\biocbuild\bbs-3.19-bioc\R\bin\R.exe CMD INSTALL --build --library=EnrichmentBrowser.buildbin-libdir EnrichmentBrowser_2.34.1.tar.gz StartedAt: 2024-06-27 08:10:09 -0400 (Thu, 27 Jun 2024) EndedAt: 2024-06-27 08:10:57 -0400 (Thu, 27 Jun 2024) EllapsedTime: 47.9 seconds RetCode: 0 Status: OK PackageFile: EnrichmentBrowser_2.34.1.zip PackageFileSize: 1.47 MiB