Package: EnrichmentBrowser Version: 2.34.1 Command: /home/biocbuild/bbs-3.19-bioc/R/bin/R CMD build --keep-empty-dirs --no-resave-data EnrichmentBrowser StartedAt: 2024-10-16 18:20:28 -0400 (Wed, 16 Oct 2024) EndedAt: 2024-10-16 18:22:18 -0400 (Wed, 16 Oct 2024) EllapsedTime: 110.2 seconds RetCode: 0 Status: OK PackageFile: EnrichmentBrowser_2.34.1.tar.gz PackageFileSize: 1.291 MiB