Package: EnrichmentBrowser Version: 2.34.1 Command: rm -rf EnrichmentBrowser.buildbin-libdir && mkdir EnrichmentBrowser.buildbin-libdir && /Users/biocbuild/BBS/utils/build-universal.sh EnrichmentBrowser_2.34.1.tar.gz /Library/Frameworks/R.framework/Resources/bin/R EnrichmentBrowser.buildbin-libdir StartedAt: 2024-10-17 16:05:54 -0400 (Thu, 17 Oct 2024) EndedAt: 2024-10-17 16:07:17 -0400 (Thu, 17 Oct 2024) EllapsedTime: 82.2 seconds RetCode: 0 Status: OK PackageFile: EnrichmentBrowser_2.34.1.tgz PackageFileSize: 1.863 MiB