Package: EnrichmentBrowser Version: 2.34.1 Command: rm -rf EnrichmentBrowser.buildbin-libdir && mkdir EnrichmentBrowser.buildbin-libdir && /Users/biocbuild/BBS/utils/build-universal.sh EnrichmentBrowser_2.34.1.tar.gz /Library/Frameworks/R.framework/Resources/bin/R EnrichmentBrowser.buildbin-libdir StartedAt: 2024-06-11 11:05:00 -0400 (Tue, 11 Jun 2024) EndedAt: 2024-06-11 11:06:08 -0400 (Tue, 11 Jun 2024) EllapsedTime: 67.6 seconds RetCode: 0 Status: OK PackageFile: EnrichmentBrowser_2.34.1.tgz PackageFileSize: 1.864 MiB