Package: EnrichedHeatmap Version: 1.34.0 Command: E:\biocbuild\bbs-3.19-bioc\R\bin\R.exe CMD INSTALL EnrichedHeatmap StartedAt: 2024-10-16 16:40:51 -0400 (Wed, 16 Oct 2024) EndedAt: 2024-10-16 16:41:55 -0400 (Wed, 16 Oct 2024) EllapsedTime: 64.1 seconds RetCode: 0 Status: OK