Package: EnrichedHeatmap Version: 1.34.0 Command: chmod a+r EnrichedHeatmap -R && E:\biocbuild\bbs-3.19-bioc\R\bin\R.exe CMD build --keep-empty-dirs --no-resave-data EnrichedHeatmap StartedAt: 2024-10-16 18:51:56 -0400 (Wed, 16 Oct 2024) EndedAt: 2024-10-16 19:19:40 -0400 (Wed, 16 Oct 2024) EllapsedTime: 1663.5 seconds RetCode: 0 Status: OK PackageFile: EnrichedHeatmap_1.34.0.tar.gz PackageFileSize: 9.814 MiB