Package: EnrichedHeatmap Version: 1.34.0 Command: /Library/Frameworks/R.framework/Resources/bin/R CMD build --keep-empty-dirs --no-resave-data EnrichedHeatmap StartedAt: 2024-10-16 18:57:36 -0400 (Wed, 16 Oct 2024) EndedAt: 2024-10-16 19:15:23 -0400 (Wed, 16 Oct 2024) EllapsedTime: 1067.3 seconds RetCode: 0 Status: OK PackageFile: EnrichedHeatmap_1.34.0.tar.gz PackageFileSize: 13.15 MiB