Package: EnrichedHeatmap Version: 1.34.0 Command: rm -rf EnrichedHeatmap.buildbin-libdir && mkdir EnrichedHeatmap.buildbin-libdir && /Users/biocbuild/BBS/utils/build-universal.sh EnrichedHeatmap_1.34.0.tar.gz /Library/Frameworks/R.framework/Resources/bin/R EnrichedHeatmap.buildbin-libdir StartedAt: 2024-10-17 16:05:49 -0400 (Thu, 17 Oct 2024) EndedAt: 2024-10-17 16:06:39 -0400 (Thu, 17 Oct 2024) EllapsedTime: 50.1 seconds RetCode: 0 Status: OK PackageFile: EnrichedHeatmap_1.34.0.tgz PackageFileSize: 11.99 MiB