Package: EnrichedHeatmap Version: 1.34.0 Command: /home/biocbuild/R/R-beta-2024-04-15_r86425/bin/R CMD build --keep-empty-dirs --no-resave-data EnrichedHeatmap StartedAt: 2024-05-09 00:04:56 -0000 (Thu, 09 May 2024) EndedAt: 2024-05-09 00:11:38 -0000 (Thu, 09 May 2024) EllapsedTime: 402.5 seconds RetCode: 0 Status: OK PackageFile: EnrichedHeatmap_1.34.0.tar.gz PackageFileSize: 9.892 MiB