Package: EnrichedHeatmap Version: 1.34.0 Command: rm -rf EnrichedHeatmap.buildbin-libdir && mkdir EnrichedHeatmap.buildbin-libdir && /Users/biocbuild/BBS/utils/build-universal.sh EnrichedHeatmap_1.34.0.tar.gz /Library/Frameworks/R.framework/Resources/bin/R EnrichedHeatmap.buildbin-libdir StartedAt: 2024-10-18 18:20:05 -0400 (Fri, 18 Oct 2024) EndedAt: 2024-10-18 18:20:36 -0400 (Fri, 18 Oct 2024) EllapsedTime: 30.8 seconds RetCode: 0 Status: OK PackageFile: EnrichedHeatmap_1.34.0.tgz PackageFileSize: 11.99 MiB