Package: EnhancedVolcano Version: 1.22.0 Command: chmod a+r EnhancedVolcano -R && F:\biocbuild\bbs-3.19-bioc\R\bin\R.exe CMD build --keep-empty-dirs --no-resave-data EnhancedVolcano StartedAt: 2024-06-26 18:34:46 -0400 (Wed, 26 Jun 2024) EndedAt: 2024-06-26 18:59:40 -0400 (Wed, 26 Jun 2024) EllapsedTime: 1494.1 seconds RetCode: 0 Status: OK PackageFile: EnhancedVolcano_1.22.0.tar.gz PackageFileSize: 6.131 MiB