Package: EnhancedVolcano Version: 1.22.0 Command: rm -rf EnhancedVolcano.buildbin-libdir && mkdir EnhancedVolcano.buildbin-libdir && /Users/biocbuild/BBS/utils/build-universal.sh EnhancedVolcano_1.22.0.tar.gz /Library/Frameworks/R.framework/Resources/bin/R EnhancedVolcano.buildbin-libdir StartedAt: 2024-10-17 16:05:40 -0400 (Thu, 17 Oct 2024) EndedAt: 2024-10-17 16:05:55 -0400 (Thu, 17 Oct 2024) EllapsedTime: 15.0 seconds RetCode: 0 Status: OK PackageFile: EnhancedVolcano_1.22.0.tgz PackageFileSize: 5.837 MiB