Package: EnhancedVolcano Version: 1.22.0 Command: rm -rf EnhancedVolcano.buildbin-libdir && mkdir EnhancedVolcano.buildbin-libdir && /Users/biocbuild/BBS/utils/build-universal.sh EnhancedVolcano_1.22.0.tar.gz /Library/Frameworks/R.framework/Resources/bin/R EnhancedVolcano.buildbin-libdir StartedAt: 2024-06-11 11:04:46 -0400 (Tue, 11 Jun 2024) EndedAt: 2024-06-11 11:04:59 -0400 (Tue, 11 Jun 2024) EllapsedTime: 13.1 seconds RetCode: 0 Status: OK PackageFile: EnhancedVolcano_1.22.0.tgz PackageFileSize: 5.877 MiB