Package: EnhancedVolcano Version: 1.22.0 Maintainer: Kevin Blighe MaintainerEmail: kevin at clinicalbioinformatics.co.uk git_url: https://git.bioconductor.org/packages/EnhancedVolcano git_branch: RELEASE_3_19 git_last_commit: d5cc0b6 git_last_commit_date: 2024-04-30 11:08:33 -0400 (Tue, 30 Apr 2024)