Package: EmpiricalBrownsMethod Version: 1.32.0 Command: E:\biocbuild\bbs-3.19-bioc\R\bin\R.exe CMD INSTALL EmpiricalBrownsMethod StartedAt: 2024-10-16 15:58:24 -0400 (Wed, 16 Oct 2024) EndedAt: 2024-10-16 15:59:14 -0400 (Wed, 16 Oct 2024) EllapsedTime: 50.0 seconds RetCode: 0 Status: OK