Package: EmpiricalBrownsMethod Version: 1.32.0 Command: rm -rf EmpiricalBrownsMethod.buildbin-libdir && mkdir EmpiricalBrownsMethod.buildbin-libdir && E:\biocbuild\bbs-3.19-bioc\R\bin\R.exe CMD INSTALL --build --library=EmpiricalBrownsMethod.buildbin-libdir EmpiricalBrownsMethod_1.32.0.tar.gz StartedAt: 2024-10-17 07:44:35 -0400 (Thu, 17 Oct 2024) EndedAt: 2024-10-17 07:46:26 -0400 (Thu, 17 Oct 2024) EllapsedTime: 111.0 seconds RetCode: 0 Status: OK PackageFile: EmpiricalBrownsMethod_1.32.0.zip PackageFileSize: 57.84 KiB