Package: EmpiricalBrownsMethod Version: 1.32.0 Command: rm -rf EmpiricalBrownsMethod.buildbin-libdir && mkdir EmpiricalBrownsMethod.buildbin-libdir && F:\biocbuild\bbs-3.19-bioc\R\bin\R.exe CMD INSTALL --build --library=EmpiricalBrownsMethod.buildbin-libdir EmpiricalBrownsMethod_1.32.0.tar.gz StartedAt: 2024-06-27 08:09:58 -0400 (Thu, 27 Jun 2024) EndedAt: 2024-06-27 08:10:07 -0400 (Thu, 27 Jun 2024) EllapsedTime: 9.7 seconds RetCode: 0 Status: OK PackageFile: EmpiricalBrownsMethod_1.32.0.zip PackageFileSize: 57.84 KiB