Package: EmpiricalBrownsMethod Version: 1.32.0 Maintainer: David Gibbs MaintainerEmail: dgibbs at systemsbiology.org git_url: https://git.bioconductor.org/packages/EmpiricalBrownsMethod git_branch: RELEASE_3_19 git_last_commit: cf3cd7e git_last_commit_date: 2024-04-30 10:47:43 -0400 (Tue, 30 Apr 2024)