Package: EWCE Version: 1.12.0 Command: E:\biocbuild\bbs-3.19-bioc\R\bin\R.exe CMD INSTALL EWCE StartedAt: 2024-10-16 17:22:22 -0400 (Wed, 16 Oct 2024) EndedAt: 2024-10-16 17:23:18 -0400 (Wed, 16 Oct 2024) EllapsedTime: 55.5 seconds RetCode: 0 Status: OK