Package: EWCE Version: 1.12.0 Command: rm -rf EWCE.buildbin-libdir && mkdir EWCE.buildbin-libdir && F:\biocbuild\bbs-3.19-bioc\R\bin\R.exe CMD INSTALL --build --library=EWCE.buildbin-libdir EWCE_1.12.0.tar.gz StartedAt: 2024-06-27 08:11:36 -0400 (Thu, 27 Jun 2024) EndedAt: 2024-06-27 08:12:42 -0400 (Thu, 27 Jun 2024) EllapsedTime: 66.6 seconds RetCode: 0 Status: OK PackageFile: EWCE_1.12.0.zip PackageFileSize: 2.135 MiB