Package: EWCE Version: 1.12.0 Command: /Library/Frameworks/R.framework/Resources/bin/R CMD INSTALL EWCE StartedAt: 2024-06-09 15:43:30 -0400 (Sun, 09 Jun 2024) EndedAt: 2024-06-09 15:44:17 -0400 (Sun, 09 Jun 2024) EllapsedTime: 47.3 seconds RetCode: 0 Status: OK