Package: ERSSA Version: 1.22.0 Command: chmod a+r ERSSA -R && E:\biocbuild\bbs-3.19-bioc\R\bin\R.exe CMD build --keep-empty-dirs --no-resave-data ERSSA StartedAt: 2024-10-16 19:02:17 -0400 (Wed, 16 Oct 2024) EndedAt: 2024-10-16 19:03:14 -0400 (Wed, 16 Oct 2024) EllapsedTime: 57.2 seconds RetCode: 0 Status: OK PackageFile: ERSSA_1.22.0.tar.gz PackageFileSize: 2.679 MiB