Package: ERSSA Version: 1.22.0 Command: rm -rf ERSSA.buildbin-libdir && mkdir ERSSA.buildbin-libdir && E:\biocbuild\bbs-3.19-bioc\R\bin\R.exe CMD INSTALL --build --library=ERSSA.buildbin-libdir ERSSA_1.22.0.tar.gz StartedAt: 2024-10-17 07:46:25 -0400 (Thu, 17 Oct 2024) EndedAt: 2024-10-17 07:46:56 -0400 (Thu, 17 Oct 2024) EllapsedTime: 31.3 seconds RetCode: 0 Status: OK PackageFile: ERSSA_1.22.0.zip PackageFileSize: 2.428 MiB