Package: ERSSA Version: 1.22.0 Command: F:\biocbuild\bbs-3.19-bioc\R\bin\R.exe CMD check --no-multiarch --install=check:ERSSA.install-out.txt --library=F:\biocbuild\bbs-3.19-bioc\R\library --no-vignettes --timings ERSSA_1.22.0.tar.gz StartedAt: 2024-06-27 01:29:30 -0400 (Thu, 27 Jun 2024) EndedAt: 2024-06-27 01:34:18 -0400 (Thu, 27 Jun 2024) EllapsedTime: 288.3 seconds RetCode: 0 Status: OK CheckDir: ERSSA.Rcheck Warnings: 0