Package: ERSSA Version: 1.22.0 Command: chmod a+r ERSSA -R && F:\biocbuild\bbs-3.19-bioc\R\bin\R.exe CMD build --keep-empty-dirs --no-resave-data ERSSA StartedAt: 2024-06-26 18:44:32 -0400 (Wed, 26 Jun 2024) EndedAt: 2024-06-26 18:45:28 -0400 (Wed, 26 Jun 2024) EllapsedTime: 56.4 seconds RetCode: 0 Status: OK PackageFile: ERSSA_1.22.0.tar.gz PackageFileSize: 2.679 MiB