Package: ERSSA Version: 1.22.0 Command: rm -rf ERSSA.buildbin-libdir && mkdir ERSSA.buildbin-libdir && F:\biocbuild\bbs-3.19-bioc\R\bin\R.exe CMD INSTALL --build --library=ERSSA.buildbin-libdir ERSSA_1.22.0.tar.gz StartedAt: 2024-06-27 08:11:21 -0400 (Thu, 27 Jun 2024) EndedAt: 2024-06-27 08:11:59 -0400 (Thu, 27 Jun 2024) EllapsedTime: 37.4 seconds RetCode: 0 Status: OK PackageFile: ERSSA_1.22.0.zip PackageFileSize: 2.428 MiB