Package: ERSSA Version: 1.22.0 Command: /home/biocbuild/bbs-3.19-bioc/R/bin/R CMD build --keep-empty-dirs --no-resave-data ERSSA StartedAt: 2024-10-16 18:25:51 -0400 (Wed, 16 Oct 2024) EndedAt: 2024-10-16 18:26:38 -0400 (Wed, 16 Oct 2024) EllapsedTime: 47.1 seconds RetCode: 0 Status: OK PackageFile: ERSSA_1.22.0.tar.gz PackageFileSize: 2.679 MiB