Package: ERSSA Version: 1.22.0 Command: /Library/Frameworks/R.framework/Resources/bin/R CMD INSTALL ERSSA StartedAt: 2024-06-09 15:15:41 -0400 (Sun, 09 Jun 2024) EndedAt: 2024-06-09 15:16:17 -0400 (Sun, 09 Jun 2024) EllapsedTime: 35.5 seconds RetCode: 0 Status: OK