Package: ERSSA Version: 1.22.0 Command: rm -rf ERSSA.buildbin-libdir && mkdir ERSSA.buildbin-libdir && /Users/biocbuild/BBS/utils/build-universal.sh ERSSA_1.22.0.tar.gz /Library/Frameworks/R.framework/Resources/bin/R ERSSA.buildbin-libdir StartedAt: 2024-06-10 00:17:20 -0400 (Mon, 10 Jun 2024) EndedAt: 2024-06-10 00:17:58 -0400 (Mon, 10 Jun 2024) EllapsedTime: 38.4 seconds RetCode: 0 Status: OK PackageFile: ERSSA_1.22.0.tgz PackageFileSize: 2.52 MiB