Package: ERSSA Version: 1.22.0 Command: /home/biocbuild/R/R-beta-2024-04-15_r86425/bin/R CMD build --keep-empty-dirs --no-resave-data ERSSA StartedAt: 2024-05-09 00:11:38 -0000 (Thu, 09 May 2024) EndedAt: 2024-05-09 00:12:44 -0000 (Thu, 09 May 2024) EllapsedTime: 66.1 seconds RetCode: 0 Status: OK PackageFile: ERSSA_1.22.0.tar.gz PackageFileSize: 2.742 MiB