Package: ERSSA Version: 1.22.0 Command: /Library/Frameworks/R.framework/Resources/bin/R CMD check --install=check:ERSSA.install-out.txt --library=/Library/Frameworks/R.framework/Resources/library --no-vignettes --timings ERSSA_1.22.0.tar.gz StartedAt: 2024-06-10 15:13:22 -0400 (Mon, 10 Jun 2024) EndedAt: 2024-06-10 15:21:06 -0400 (Mon, 10 Jun 2024) EllapsedTime: 464.0 seconds RetCode: 0 Status: OK CheckDir: ERSSA.Rcheck Warnings: 0