Package: ENmix Version: 1.40.2 Command: E:\biocbuild\bbs-3.19-bioc\R\bin\R.exe CMD check --no-multiarch --install=check:ENmix.install-out.txt --library=E:\biocbuild\bbs-3.19-bioc\R\library --no-vignettes --timings ENmix_1.40.2.tar.gz StartedAt: 2024-10-17 01:10:57 -0400 (Thu, 17 Oct 2024) EndedAt: 2024-10-17 01:17:15 -0400 (Thu, 17 Oct 2024) EllapsedTime: 377.6 seconds RetCode: 0 Status: OK CheckDir: ENmix.Rcheck Warnings: 0