Package: ENmix Version: 1.40.2 Command: chmod a+r ENmix -R && E:\biocbuild\bbs-3.19-bioc\R\bin\R.exe CMD build --keep-empty-dirs --no-resave-data ENmix StartedAt: 2024-10-16 18:51:13 -0400 (Wed, 16 Oct 2024) EndedAt: 2024-10-16 18:52:31 -0400 (Wed, 16 Oct 2024) EllapsedTime: 78.6 seconds RetCode: 0 Status: OK PackageFile: ENmix_1.40.2.tar.gz PackageFileSize: 20.02 MiB