Package: ENmix Version: 1.40.2 Command: rm -rf ENmix.buildbin-libdir && mkdir ENmix.buildbin-libdir && E:\biocbuild\bbs-3.19-bioc\R\bin\R.exe CMD INSTALL --build --library=ENmix.buildbin-libdir ENmix_1.40.2.tar.gz StartedAt: 2024-10-17 07:44:49 -0400 (Thu, 17 Oct 2024) EndedAt: 2024-10-17 07:46:06 -0400 (Thu, 17 Oct 2024) EllapsedTime: 77.1 seconds RetCode: 0 Status: OK PackageFile: ENmix_1.40.2.zip PackageFileSize: 19.7 MiB