Package: ENmix Version: 1.40.2 Command: rm -rf ENmix.buildbin-libdir && mkdir ENmix.buildbin-libdir && F:\biocbuild\bbs-3.19-bioc\R\bin\R.exe CMD INSTALL --build --library=ENmix.buildbin-libdir ENmix_1.40.2.tar.gz StartedAt: 2024-06-27 08:10:05 -0400 (Thu, 27 Jun 2024) EndedAt: 2024-06-27 08:11:31 -0400 (Thu, 27 Jun 2024) EllapsedTime: 86.1 seconds RetCode: 0 Status: OK PackageFile: ENmix_1.40.2.zip PackageFileSize: 19.69 MiB