Package: ENmix Version: 1.40.2 Command: /home/biocbuild/bbs-3.19-bioc/R/bin/R CMD build --keep-empty-dirs --no-resave-data ENmix StartedAt: 2024-10-16 18:20:04 -0400 (Wed, 16 Oct 2024) EndedAt: 2024-10-16 18:20:58 -0400 (Wed, 16 Oct 2024) EllapsedTime: 54.1 seconds RetCode: 0 Status: OK PackageFile: ENmix_1.40.2.tar.gz PackageFileSize: 20.02 MiB