Package: ENmix Version: 1.40.2 Command: /Library/Frameworks/R.framework/Resources/bin/R CMD check --install=check:ENmix.install-out.txt --library=/Library/Frameworks/R.framework/Resources/library --no-vignettes --timings ENmix_1.40.2.tar.gz StartedAt: 2024-10-17 04:48:06 -0400 (Thu, 17 Oct 2024) EndedAt: 2024-10-17 05:01:51 -0400 (Thu, 17 Oct 2024) EllapsedTime: 824.7 seconds RetCode: 0 Status: OK CheckDir: ENmix.Rcheck Warnings: 0