Package: ENmix Version: 1.40.1 Command: /Library/Frameworks/R.framework/Resources/bin/R CMD INSTALL ENmix StartedAt: 2024-06-09 15:41:12 -0400 (Sun, 09 Jun 2024) EndedAt: 2024-06-09 15:42:19 -0400 (Sun, 09 Jun 2024) EllapsedTime: 66.8 seconds RetCode: 0 Status: OK