Package: ENmix Version: 1.40.1 Command: /Library/Frameworks/R.framework/Resources/bin/R CMD build --keep-empty-dirs --no-resave-data ENmix StartedAt: 2024-06-09 16:33:49 -0400 (Sun, 09 Jun 2024) EndedAt: 2024-06-09 16:34:48 -0400 (Sun, 09 Jun 2024) EllapsedTime: 59.4 seconds RetCode: 0 Status: OK PackageFile: ENmix_1.40.1.tar.gz PackageFileSize: 20.01 MiB