Package: ENmix Version: 1.40.1 Command: rm -rf ENmix.buildbin-libdir && mkdir ENmix.buildbin-libdir && /Users/biocbuild/BBS/utils/build-universal.sh ENmix_1.40.1.tar.gz /Library/Frameworks/R.framework/Resources/bin/R ENmix.buildbin-libdir StartedAt: 2024-06-10 00:16:47 -0400 (Mon, 10 Jun 2024) EndedAt: 2024-06-10 00:17:59 -0400 (Mon, 10 Jun 2024) EllapsedTime: 72.1 seconds RetCode: 0 Status: OK PackageFile: ENmix_1.40.1.tgz PackageFileSize: 19.7 MiB