Package: ENmix Version: 1.40.1 Command: rm -rf ENmix.buildbin-libdir && mkdir ENmix.buildbin-libdir && /Users/biocbuild/BBS/utils/build-universal.sh ENmix_1.40.1.tar.gz /Library/Frameworks/R.framework/Resources/bin/R ENmix.buildbin-libdir StartedAt: 2024-06-11 11:04:55 -0400 (Tue, 11 Jun 2024) EndedAt: 2024-06-11 11:06:44 -0400 (Tue, 11 Jun 2024) EllapsedTime: 109.0 seconds RetCode: 0 Status: OK PackageFile: ENmix_1.40.1.tgz PackageFileSize: 19.7 MiB