Package: ENmix Version: 1.40.2 Command: /Library/Frameworks/R.framework/Resources/bin/R CMD INSTALL ENmix StartedAt: 2024-10-16 18:47:13 -0400 (Wed, 16 Oct 2024) EndedAt: 2024-10-16 18:48:14 -0400 (Wed, 16 Oct 2024) EllapsedTime: 61.2 seconds RetCode: 0 Status: OK