Package: ENmix Version: 1.40.2 Command: /Library/Frameworks/R.framework/Resources/bin/R CMD build --keep-empty-dirs --no-resave-data ENmix StartedAt: 2024-10-16 23:56:16 -0400 (Wed, 16 Oct 2024) EndedAt: 2024-10-16 23:57:25 -0400 (Wed, 16 Oct 2024) EllapsedTime: 68.1 seconds RetCode: 0 Status: OK PackageFile: ENmix_1.40.2.tar.gz PackageFileSize: 20.02 MiB