Package: ENmix Version: 1.40.2 Command: rm -rf ENmix.buildbin-libdir && mkdir ENmix.buildbin-libdir && /Users/biocbuild/BBS/utils/build-universal.sh ENmix_1.40.2.tar.gz /Library/Frameworks/R.framework/Resources/bin/R ENmix.buildbin-libdir StartedAt: 2024-10-18 18:20:05 -0400 (Fri, 18 Oct 2024) EndedAt: 2024-10-18 18:21:21 -0400 (Fri, 18 Oct 2024) EllapsedTime: 75.2 seconds RetCode: 0 Status: OK PackageFile: ENmix_1.40.2.tgz PackageFileSize: 19.7 MiB