Package: EMDomics Version: 2.34.0 Command: F:\biocbuild\bbs-3.19-bioc\R\bin\R.exe CMD INSTALL EMDomics StartedAt: 2024-06-26 15:57:40 -0400 (Wed, 26 Jun 2024) EndedAt: 2024-06-26 15:57:50 -0400 (Wed, 26 Jun 2024) EllapsedTime: 9.5 seconds RetCode: 0 Status: OK