Package: EMDomics Version: 2.34.0 Command: chmod a+r EMDomics -R && F:\biocbuild\bbs-3.19-bioc\R\bin\R.exe CMD build --keep-empty-dirs --no-resave-data EMDomics StartedAt: 2024-06-26 18:34:32 -0400 (Wed, 26 Jun 2024) EndedAt: 2024-06-26 18:34:52 -0400 (Wed, 26 Jun 2024) EllapsedTime: 19.4 seconds RetCode: 0 Status: OK PackageFile: EMDomics_2.34.0.tar.gz PackageFileSize: 87.73 KiB