Package: EMDomics Version: 2.34.0 Command: rm -rf EMDomics.buildbin-libdir && mkdir EMDomics.buildbin-libdir && F:\biocbuild\bbs-3.19-bioc\R\bin\R.exe CMD INSTALL --build --library=EMDomics.buildbin-libdir EMDomics_2.34.0.tar.gz StartedAt: 2024-06-27 08:09:55 -0400 (Thu, 27 Jun 2024) EndedAt: 2024-06-27 08:10:04 -0400 (Thu, 27 Jun 2024) EllapsedTime: 8.1 seconds RetCode: 0 Status: OK PackageFile: EMDomics_2.34.0.zip PackageFileSize: 182.1 KiB