Package: EMDomics Version: 2.34.0 Command: /home/biocbuild/bbs-3.19-bioc/R/bin/R CMD INSTALL EMDomics StartedAt: 2024-10-16 16:01:32 -0400 (Wed, 16 Oct 2024) EndedAt: 2024-10-16 16:01:35 -0400 (Wed, 16 Oct 2024) EllapsedTime: 3.9 seconds RetCode: 0 Status: OK