Package: EMDomics Version: 2.34.0 Command: /home/biocbuild/bbs-3.19-bioc/R/bin/R CMD check --install=check:EMDomics.install-out.txt --library=/home/biocbuild/bbs-3.19-bioc/R/site-library --timings EMDomics_2.34.0.tar.gz StartedAt: 2024-10-17 00:04:26 -0400 (Thu, 17 Oct 2024) EndedAt: 2024-10-17 00:05:35 -0400 (Thu, 17 Oct 2024) EllapsedTime: 69.1 seconds RetCode: 0 Status: OK CheckDir: EMDomics.Rcheck Warnings: 0